BEGIN:VCALENDAR
VERSION:2.0
PRODID:-//Drink at The Well
CALSCALE:GREGORIAN
METHOD:PUBLISH
X-WR-CALNAME:Drink at The Well
X-ORIGINAL-URL:https://drinkatthewell.com/product/wonderland-edm-party-london/
X-WR-CALDESC:WONDERLAND EDM PARTY &#8211; London
BEGIN:VTIMEZONE
TZID:America/Halifax
END:VTIMEZONE
BEGIN:VEVENT
DTSTART;TZID=America/Halifax:20260425T000000
DTEND;TZID=America/Halifax:20260425T000000
DTSTAMP:20260422T173612
UID:6722-rpalmer@hightechcommunications.ca
SUMMARY:WONDERLAND EDM PARTY – London
DESCRIPTION:Featured Performers: Gogo Preston Gina Hamilton Dustiny Love Kendoll Kunts Event Details: Time: Starts at 9 PM Door Cover: $10 Advance Tickets: $5 on Eventbrite (Scan the QR code)
URL:https://drinkatthewell.com/product/wonderland-edm-party-london/
LOCATION:238 Dundas St London, ON N6A 1H3
END:VEVENT
END:VCALENDAR
