BEGIN:VCALENDAR
VERSION:2.0
PRODID:-//Drink at The Well
CALSCALE:GREGORIAN
METHOD:PUBLISH
X-WR-CALNAME:Drink at The Well
X-ORIGINAL-URL:https://drinkatthewell.com/product/pretzel-day-wilton-manors/
X-WR-CALDESC:PRETZEL DAY! Wilton Manors
BEGIN:VTIMEZONE
TZID:America/Halifax
END:VTIMEZONE
BEGIN:VEVENT
DTSTART;TZID=America/Halifax:20260426T000000
DTEND;TZID=America/Halifax:20260426T000000
DTSTAMP:20260422T172619
UID:6681-rpalmer@hightechcommunications.ca
SUMMARY:PRETZEL DAY! Wilton Manors
DESCRIPTION:The Special Deal: Giant Pretzel + Domestic Pint Price: $8 Tagline: DELICIUSNESS!
URL:https://drinkatthewell.com/product/pretzel-day-wilton-manors/
LOCATION:2426 Wilton Dr, Wilton Manors, FL 33305, USA
END:VEVENT
END:VCALENDAR
