BEGIN:VCALENDAR
VERSION:2.0
PRODID:-//Drink at The Well
CALSCALE:GREGORIAN
METHOD:PUBLISH
X-WR-CALNAME:Drink at The Well
X-ORIGINAL-URL:https://drinkatthewell.com/product/pretzel-day-windsor/
X-WR-CALDESC:PRETZEL DAY! Windsor
BEGIN:VTIMEZONE
TZID:America/Halifax
END:VTIMEZONE
BEGIN:VEVENT
DTSTART;TZID=America/Halifax:20260426T000000
DTEND;TZID=America/Halifax:20260426T000000
DTSTAMP:20260422T155340
UID:6680-rpalmer@hightechcommunications.ca
SUMMARY:PRETZEL DAY! Windsor
DESCRIPTION:The Special Deal: Giant Pretzel + Domestic Pint Price: $8 Tagline: DELICIUSNESS!
URL:https://drinkatthewell.com/product/pretzel-day-windsor/
LOCATION:875 Erie St E, Windsor, ON N9A 3Y7
END:VEVENT
END:VCALENDAR
