BEGIN:VCALENDAR
VERSION:2.0
PRODID:-//Drink at The Well
CALSCALE:GREGORIAN
METHOD:PUBLISH
X-WR-CALNAME:Drink at The Well
X-ORIGINAL-URL:https://drinkatthewell.com/product/saturday-night-dj-upper-lower-levels-church-street-3/
X-WR-CALDESC:Saturday Night DJ (Upper &#038; Lower Levels) &#8211; Church Street
BEGIN:VTIMEZONE
TZID:America/Halifax
END:VTIMEZONE
BEGIN:VEVENT
DTSTART;TZID=America/Halifax:20260425T000000
DTEND;TZID=America/Halifax:20260425T000000
DTSTAMP:20260422T160130
UID:6667-rpalmer@hightechcommunications.ca
SUMMARY:Saturday Night DJ (Upper & Lower Levels) – Church Street
DESCRIPTION:Music on both levels! DJ Anthony (Lower Level @ 9:30 PM) and DJ Marty or DJ Luigi (Upper Level @ 10:00 PM).
URL:https://drinkatthewell.com/product/saturday-night-dj-upper-lower-levels-church-street-3/
LOCATION:487 Church St. Toronto, ON M4Y 2C6
END:VEVENT
END:VCALENDAR
