BEGIN:VCALENDAR
VERSION:2.0
PRODID:-//Drink at The Well
CALSCALE:GREGORIAN
METHOD:PUBLISH
X-WR-CALNAME:Drink at The Well
X-ORIGINAL-URL:https://drinkatthewell.com/product/jade-electra-contest-wednesdays-church-street-4/
X-WR-CALDESC:Jade Electra: Contest Wednesdays &#8211; Church Street
BEGIN:VTIMEZONE
TZID:America/Halifax
END:VTIMEZONE
BEGIN:VEVENT
DTSTART;TZID=America/Halifax:20260429T000000
DTEND;TZID=America/Halifax:20260429T000000
DTSTAMP:20260422T160118
UID:6663-rpalmer@hightechcommunications.ca
SUMMARY:Jade Electra: Contest Wednesdays – Church Street
DESCRIPTION:Wednesday nights featuring Jade Electra – Contest Night.
URL:https://drinkatthewell.com/product/jade-electra-contest-wednesdays-church-street-4/
LOCATION:487 Church St. Toronto, ON M4Y 2C6
END:VEVENT
END:VCALENDAR
