BEGIN:VCALENDAR
VERSION:2.0
PRODID:-//Drink at The Well
CALSCALE:GREGORIAN
METHOD:PUBLISH
X-WR-CALNAME:Drink at The Well
X-ORIGINAL-URL:https://drinkatthewell.com/product/half-priced-mondays-church-street-4/
X-WR-CALDESC:Half-Priced Mondays &#8211; Church Street
BEGIN:VTIMEZONE
TZID:America/Halifax
END:VTIMEZONE
BEGIN:VEVENT
DTSTART;TZID=America/Halifax:20260427T000000
DTEND;TZID=America/Halifax:20260427T000000
DTSTAMP:20260422T133525
UID:6658-rpalmer@hightechcommunications.ca
SUMMARY:Half-Priced Mondays – Church Street
DESCRIPTION:Kick off the week with Half-Priced Mondays at The Well.
URL:https://drinkatthewell.com/product/half-priced-mondays-church-street-4/
LOCATION:487 Church St. Toronto, ON M4Y 2C6
END:VEVENT
END:VCALENDAR
