BEGIN:VCALENDAR
VERSION:2.0
PRODID:-//Drink at The Well
CALSCALE:GREGORIAN
METHOD:PUBLISH
X-WR-CALNAME:Drink at The Well
X-ORIGINAL-URL:https://drinkatthewell.com/product/karaoke-night-london-3/
X-WR-CALDESC:Karaoke Night &#8211; London
BEGIN:VTIMEZONE
TZID:America/Halifax
END:VTIMEZONE
BEGIN:VEVENT
DTSTART;TZID=America/Halifax:20260426T000000
DTEND;TZID=America/Halifax:20260426T000000
DTSTAMP:20260422T175236
UID:6650-rpalmer@hightechcommunications.ca
SUMMARY:Karaoke Night – London
DESCRIPTION:Thursday night Karaoke starting at 9:00 PM. Hosted by Melody Bijou (Apr 9), Deanna Dior (Apr 16), and Kienna Dior (Apr 23/30).
URL:https://drinkatthewell.com/product/karaoke-night-london-3/
LOCATION:238 Dundas St London, ON N6A 1H3
END:VEVENT
END:VCALENDAR
