BEGIN:VCALENDAR
VERSION:2.0
PRODID:-//Drink at The Well
CALSCALE:GREGORIAN
METHOD:PUBLISH
X-WR-CALNAME:Drink at The Well
X-ORIGINAL-URL:https://drinkatthewell.com/product/saturday-night-dj-london-3/
X-WR-CALDESC:Saturday Night DJ &#8211; London
BEGIN:VTIMEZONE
TZID:America/Halifax
END:VTIMEZONE
BEGIN:VEVENT
DTSTART;TZID=America/Halifax:20260425T000000
DTEND;TZID=America/Halifax:20260425T000000
DTSTAMP:20260422T174139
UID:6643-rpalmer@hightechcommunications.ca
SUMMARY:Saturday Night DJ – London
DESCRIPTION:Saturday night party with live DJ starting at 11:00 PM. Featuring DJ Tyvak (Apr 11 and 18) and DJ Melody (Apr 25).
URL:https://drinkatthewell.com/product/saturday-night-dj-london-3/
LOCATION:238 Dundas St London, ON N6A 1H3
END:VEVENT
END:VCALENDAR
