BEGIN:VCALENDAR
VERSION:2.0
PRODID:-//Drink at The Well
CALSCALE:GREGORIAN
METHOD:PUBLISH
X-WR-CALNAME:Drink at The Well
X-ORIGINAL-URL:https://drinkatthewell.com/product/saturday-night-bingo-london-3/
X-WR-CALDESC:Saturday Night Bingo &#8211; London
BEGIN:VTIMEZONE
TZID:America/Halifax
END:VTIMEZONE
BEGIN:VEVENT
DTSTART;TZID=America/Halifax:20260425T000000
DTEND;TZID=America/Halifax:20260425T000000
DTSTAMP:20260422T174509
UID:6639-rpalmer@hightechcommunications.ca
SUMMARY:Saturday Night Bingo – London
DESCRIPTION:Saturday Night Bingo starting at 7:00 PM. Hosted by Melody Bijou (Apr 11), Victoria Parks (Apr 18), and Mz Affra Tighty (Apr 25).
URL:https://drinkatthewell.com/product/saturday-night-bingo-london-3/
LOCATION:238 Dundas St London, ON N6A 1H3
END:VEVENT
END:VCALENDAR
