BEGIN:VCALENDAR
VERSION:2.0
PRODID:-//Drink at The Well
CALSCALE:GREGORIAN
METHOD:PUBLISH
X-WR-CALNAME:Drink at The Well
X-ORIGINAL-URL:https://drinkatthewell.com/product/student-night-friday-dj-london-3/
X-WR-CALDESC:Student Night (Friday DJ) &#8211; London
BEGIN:VTIMEZONE
TZID:America/Halifax
END:VTIMEZONE
BEGIN:VEVENT
DTSTART;TZID=America/Halifax:20260424T000000
DTEND;TZID=America/Halifax:20260424T000000
DTSTAMP:20260422T174138
UID:6635-rpalmer@hightechcommunications.ca
SUMMARY:Student Night (Friday DJ) – London
DESCRIPTION:Fridays are Student Night! Live DJ starts at 11:00 PM. Featuring DJ Tyvak
URL:https://drinkatthewell.com/product/student-night-friday-dj-london-3/
LOCATION:238 Dundas St London, ON N6A 1H3
END:VEVENT
END:VCALENDAR
