BEGIN:VCALENDAR
VERSION:2.0
PRODID:-//Drink at The Well
CALSCALE:GREGORIAN
METHOD:PUBLISH
X-WR-CALNAME:Drink at The Well
X-ORIGINAL-URL:https://drinkatthewell.com/product/sunday-karaoke-hamilton-2/
X-WR-CALDESC:Sunday Karaoke &#8211; Hamilton
BEGIN:VTIMEZONE
TZID:America/Halifax
END:VTIMEZONE
BEGIN:VEVENT
DTSTART;TZID=America/Halifax:20260426T000000
DTEND;TZID=America/Halifax:20260426T000000
DTSTAMP:20260422T160201
UID:6631-rpalmer@hightechcommunications.ca
SUMMARY:Sunday Karaoke – Hamilton
DESCRIPTION:KARAOKE SUNDAYS WITH DIOR AT THE WELL HAMILTON Time &amp; Entertainment Start Time: 9 PM Featuring: Dior Contest: Sing to WIN a medium three topping pizza Drink Specials $12 Molson Minnies: 32 oz Pitcher of Draft Beer! $20 Molson Buckets: Any 4 Bottles of Coors Light or Canadian Location &amp; Contact Address: 161 Wellington St N, Hamilton, ON Phone: (905) 719-6746 Website: DRINKATTHEWELL.COM Partnership: Topper's Pizza ("Amazingly Delicious™")
URL:https://drinkatthewell.com/product/sunday-karaoke-hamilton-2/
LOCATION:161 Wellington St N, Hamilton, ON L8L 2A9
END:VEVENT
END:VCALENDAR
