BEGIN:VCALENDAR
VERSION:2.0
PRODID:-//Drink at The Well
CALSCALE:GREGORIAN
METHOD:PUBLISH
X-WR-CALNAME:Drink at The Well
X-ORIGINAL-URL:https://drinkatthewell.com/product/drag-show-hamilton-3/
X-WR-CALDESC:Drag Show &#8211; Hamilton
BEGIN:VTIMEZONE
TZID:America/Halifax
END:VTIMEZONE
BEGIN:VEVENT
DTSTART;TZID=America/Halifax:20260426T000000
DTEND;TZID=America/Halifax:20260426T000000
DTSTAMP:20260422T172640
UID:6625-rpalmer@hightechcommunications.ca
SUMMARY:Drag Show – Hamilton
DESCRIPTION:9:00 PM. Sunday Night Drag. Featuring Kenadie &amp; Macy (Apr 12), Claudia &amp; Karma (Apr 19), and Kenadie &amp; Helen (Apr 26).
URL:https://drinkatthewell.com/product/drag-show-hamilton-3/
LOCATION:161 Wellington St N, Hamilton, ON L8L 2A9
END:VEVENT
END:VCALENDAR
