BEGIN:VCALENDAR
VERSION:2.0
PRODID:-//Drink at The Well
CALSCALE:GREGORIAN
METHOD:PUBLISH
X-WR-CALNAME:Drink at The Well
X-ORIGINAL-URL:https://drinkatthewell.com/product/student-night-friday-dj-hamilton-3/
X-WR-CALDESC:Student Night (Friday DJ) &#8211; Hamilton
BEGIN:VTIMEZONE
TZID:America/Halifax
END:VTIMEZONE
BEGIN:VEVENT
DTSTART;TZID=America/Halifax:20260424T000000
DTEND;TZID=America/Halifax:20260424T000000
DTSTAMP:20260422T172707
UID:6615-rpalmer@hightechcommunications.ca
SUMMARY:Student Night (Friday DJ) – Hamilton
DESCRIPTION:Friday is Student Night! DJ starts at 11:00 PM. Featuring DJ Dru (Apr 10 and 17) and DJ Zaddy (Apr 24).
URL:https://drinkatthewell.com/product/student-night-friday-dj-hamilton-3/
LOCATION:161 Wellington St N, Hamilton, ON L8L 2A9
END:VEVENT
END:VCALENDAR
