BEGIN:VCALENDAR
VERSION:2.0
PRODID:-//Drink at The Well
CALSCALE:GREGORIAN
METHOD:PUBLISH
X-WR-CALNAME:Drink at The Well
X-ORIGINAL-URL:https://drinkatthewell.com/product/sunday-karaoke-windsor-2/
X-WR-CALDESC:Sunday Karaoke &#8211; Windsor
BEGIN:VTIMEZONE
TZID:America/Halifax
END:VTIMEZONE
BEGIN:VEVENT
DTSTART;TZID=America/Halifax:20260426T000000
DTEND;TZID=America/Halifax:20260426T000000
DTSTAMP:20260422T160201
UID:6611-rpalmer@hightechcommunications.ca
SUMMARY:Sunday Karaoke – Windsor
DESCRIPTION:Sunday night Karaoke starting at 9:00 PM. Hosted by Disco.
URL:https://drinkatthewell.com/product/sunday-karaoke-windsor-2/
LOCATION:875 Erie St E, Windsor, ON N9A 3Y7
END:VEVENT
END:VCALENDAR
