BEGIN:VCALENDAR
VERSION:2.0
PRODID:-//Drink at The Well
CALSCALE:GREGORIAN
METHOD:PUBLISH
X-WR-CALNAME:Drink at The Well
X-ORIGINAL-URL:https://drinkatthewell.com/product/drag-brunch-windsor-3/
X-WR-CALDESC:Drag Brunch &#8211; Windsor
BEGIN:VTIMEZONE
TZID:America/Halifax
END:VTIMEZONE
BEGIN:VEVENT
DTSTART;TZID=America/Halifax:20260426T000000
DTEND;TZID=America/Halifax:20260426T000000
DTSTAMP:20260422T172523
UID:6608-rpalmer@hightechcommunications.ca
SUMMARY:Drag Brunch – Windsor
DESCRIPTION:Sunday Drag Brunch. Hosts include Iddy & Randy (Apr 12), Subrina & Bloss (Apr 19), and Ivy (Apr 26).
URL:https://drinkatthewell.com/product/drag-brunch-windsor-3/
LOCATION:875 Erie St E, Windsor, ON N9A 3Y7
END:VEVENT
END:VCALENDAR
