BEGIN:VCALENDAR
VERSION:2.0
PRODID:-//Drink at The Well
CALSCALE:GREGORIAN
METHOD:PUBLISH
X-WR-CALNAME:Drink at The Well
X-ORIGINAL-URL:https://drinkatthewell.com/product/saturday-night-dj-windsor-3/
X-WR-CALDESC:Saturday Night DJ &#8211; Windsor
BEGIN:VTIMEZONE
TZID:America/Halifax
END:VTIMEZONE
BEGIN:VEVENT
DTSTART;TZID=America/Halifax:20260425T000000
DTEND;TZID=America/Halifax:20260425T000000
DTSTAMP:20260422T175134
UID:6604-rpalmer@hightechcommunications.ca
SUMMARY:Saturday Night DJ – Windsor
DESCRIPTION:Keep the party going after the show! Saturday DJ starting at 10:00 PM. Featuring DJ Kevin (Apr 11 and 25) and DJ Bryan (Apr 18).
URL:https://drinkatthewell.com/product/saturday-night-dj-windsor-3/
LOCATION:875 Erie St E, Windsor, ON N9A 3Y7
END:VEVENT
END:VCALENDAR
