BEGIN:VCALENDAR
VERSION:2.0
PRODID:-//Drink at The Well
CALSCALE:GREGORIAN
METHOD:PUBLISH
X-WR-CALNAME:Drink at The Well
X-ORIGINAL-URL:https://drinkatthewell.com/product/friday-night-dj-windsor-3/
X-WR-CALDESC:Friday Night DJ &#8211; Windsor
BEGIN:VTIMEZONE
TZID:America/Halifax
END:VTIMEZONE
BEGIN:VEVENT
DTSTART;TZID=America/Halifax:20260424T000000
DTEND;TZID=America/Halifax:20260424T000000
DTSTAMP:20260422T174439
UID:6597-rpalmer@hightechcommunications.ca
SUMMARY:Friday Night DJ – Windsor
DESCRIPTION:Start the weekend with our Friday Night DJ. Music starts at 11:00 PM. Featuring DJ Kevin (Apr 10 and 24) and DJ Leo (Apr 17).
URL:https://drinkatthewell.com/product/friday-night-dj-windsor-3/
LOCATION:875 Erie St E, Windsor, ON N9A 3Y7
END:VEVENT
END:VCALENDAR
