BEGIN:VCALENDAR
VERSION:2.0
PRODID:-//Drink at The Well
CALSCALE:GREGORIAN
METHOD:PUBLISH
X-WR-CALNAME:Drink at The Well
X-ORIGINAL-URL:https://drinkatthewell.com/product/drag-bingo-15/
X-WR-CALDESC:Drag Bingo
BEGIN:VTIMEZONE
TZID:America/New_York
END:VTIMEZONE
BEGIN:VEVENT
DTSTART;TZID=America/New_York:20260711T120000
DTEND;TZID=America/New_York:20260711T233000
DTSTAMP:20260422T185143
UID:6578-rpalmer@hightechcommunications.ca
SUMMARY:Drag Bingo
DESCRIPTION:
URL:https://drinkatthewell.com/product/drag-bingo-15/
LOCATION:2426 Wilton Dr, Wilton Manors, FL 33305, USA
END:VEVENT
END:VCALENDAR
