BEGIN:VCALENDAR
VERSION:2.0
PRODID:-//Drink at The Well
CALSCALE:GREGORIAN
METHOD:PUBLISH
X-WR-CALNAME:Drink at The Well
X-ORIGINAL-URL:https://drinkatthewell.com/product/sunday-service-with-the-lords-wilton-manors-4/
X-WR-CALDESC:Sunday Service with the Lords Wilton Manors
BEGIN:VTIMEZONE
TZID:America/New_York
END:VTIMEZONE
BEGIN:VEVENT
DTSTART;TZID=America/New_York:20260503T120000
DTEND;TZID=America/New_York:20260503T143000
DTSTAMP:20260422T185056
UID:6547-rpalmer@hightechcommunications.ca
SUMMARY:Sunday Service with the Lords Wilton Manors
DESCRIPTION:
URL:https://drinkatthewell.com/product/sunday-service-with-the-lords-wilton-manors-4/
LOCATION:2426 Wilton Dr, Wilton Manors, FL 33305, USA
END:VEVENT
END:VCALENDAR
