BEGIN:VCALENDAR
VERSION:2.0
PRODID:-//Drink at The Well
CALSCALE:GREGORIAN
METHOD:PUBLISH
X-WR-CALNAME:Drink at The Well
X-ORIGINAL-URL:https://drinkatthewell.com/product/the-professionals-show-church-street-4/
X-WR-CALDESC:THE PROFESSIONALS SHOW &#8211; Church Street
BEGIN:VTIMEZONE
TZID:America/New_York
END:VTIMEZONE
BEGIN:VEVENT
DTSTART;TZID=America/New_York:20260423T190000
DTEND;TZID=America/New_York:20260423T210000
DTSTAMP:20260422T160043
UID:6514-rpalmer@hightechcommunications.ca
SUMMARY:THE PROFESSIONALS SHOW – Church Street
DESCRIPTION:🪩🌈 THE PROFESSIONALS SHOW 🌈🪩 Get ready to laugh, groove, and snack at The Professionals Show on THURSDAYS from 10PM-12AM! 🔥🎶 Featuring the razor-sharp wit of Toronto’s Roast-Mistress, ✨ Carlotta Carlisle (@carlottacarlisle) ✨, and her rotating cast! With 80s and 90s jams to get you in the weekend mood, plus comedic relief that'll have you grinning until Monday. And don’t miss the tasty treat from the kitchen: Chicken Tacos—Hard or Soft, your choice—for just $4 each! 🌮😋 MAKE A RESERVATION 👇 https://drinkatthewell.com/church
URL:https://drinkatthewell.com/product/the-professionals-show-church-street-4/
LOCATION:487 Church St. Toronto, ON M4Y 2C6
END:VEVENT
END:VCALENDAR
