BEGIN:VCALENDAR
VERSION:2.0
PRODID:-//Drink at The Well
CALSCALE:GREGORIAN
METHOD:PUBLISH
X-WR-CALNAME:Drink at The Well
X-ORIGINAL-URL:https://drinkatthewell.com/product/trivia-night-church-street-4/
X-WR-CALDESC:Trivia Night &#8211; Church Street
BEGIN:VTIMEZONE
TZID:America/New_York
END:VTIMEZONE
BEGIN:VEVENT
DTSTART;TZID=America/New_York:20260423T190000
DTEND;TZID=America/New_York:20260423T210000
DTSTAMP:20260422T160129
UID:6509-rpalmer@hightechcommunications.ca
SUMMARY:Trivia Night – Church Street
DESCRIPTION:🏆🤓 TRIVIA THURSDAYS 🤓🏆 Think you’ve got what it takes? Test your knowledge at The Well every Thursday night! Hosted by the trivia queen herself, Pam, from 7PM to 9PM. She’s got all the questions—and *maybe* some of the answers! 🤭 Expect laughs, friendly competition, and 🎁PRIZES🎁 for the trivia champs! Think you can outsmart the crowd? Prove it! 🤪 And while you’re flexing those brain muscles, don’t forget to fuel up with our Chicken Tacos which are $4 ALL DAY today! 🌮 MAKE A RESERVATION 👇 https://drinkatthewell.com/church
URL:https://drinkatthewell.com/product/trivia-night-church-street-4/
LOCATION:487 Church St. Toronto, ON M4Y 2C6
END:VEVENT
END:VCALENDAR
