BEGIN:VCALENDAR
VERSION:2.0
PRODID:-//Drink at The Well
CALSCALE:GREGORIAN
METHOD:PUBLISH
X-WR-CALNAME:Drink at The Well
X-ORIGINAL-URL:https://drinkatthewell.com/product/open-stage-wednesdays-church-street-5/
X-WR-CALDESC:OPEN STAGE WEDNESDAYS &#8211; Church Street
BEGIN:VTIMEZONE
TZID:America/New_York
END:VTIMEZONE
BEGIN:VEVENT
DTSTART;TZID=America/New_York:20260429T190000
DTEND;TZID=America/New_York:20260429T220000
DTSTAMP:20260422T160129
UID:6505-rpalmer@hightechcommunications.ca
SUMMARY:OPEN STAGE WEDNESDAYS – Church Street
DESCRIPTION:🪩🎙️OPEN STAGE WEDNESDAYS🎙️🪩 Come out to The Well Church Street for our Open Stage night tonight starting at 10PM hosted by the living legend herself- 👑Sofonda Cox👑, featuring last week’s winner! 🎤✨ Come show off your talents in this JAM PACKED show where contestants compete in an epic battle for a chance to win a hosting spot with Sofonda - featuring iconic lip sync songs! 🎶 And don’t forget — it’s The Well after all! Of course we have deals today! 🤩👇 🍗$1 Wings (Open to Close) 🍸$5 Bar Rail Mixed Drinks (2PM-7PM) 🍻$5 Molson Products (2PM-7PM) What are you waiting for? Come out and have a 🌈fabulous🌈 time with us every Wednesday! MAKE A RESERVATION 👇 https://drinkatthewell.com/church
URL:https://drinkatthewell.com/product/open-stage-wednesdays-church-street-5/
LOCATION:487 Church St. Toronto, ON M4Y 2C6
END:VEVENT
END:VCALENDAR
