BEGIN:VCALENDAR
VERSION:2.0
PRODID:-//Drink at The Well
CALSCALE:GREGORIAN
METHOD:PUBLISH
X-WR-CALNAME:Drink at The Well
X-ORIGINAL-URL:https://drinkatthewell.com/product/messy-bingos-church-street-5/
X-WR-CALDESC:Messy Bingos Church Street
BEGIN:VTIMEZONE
TZID:America/New_York
END:VTIMEZONE
BEGIN:VEVENT
DTSTART;TZID=America/New_York:20260429T190000
DTEND;TZID=America/New_York:20260429T220000
DTSTAMP:20260422T160044
UID:6500-rpalmer@hightechcommunications.ca
SUMMARY:Messy Bingos Church Street
DESCRIPTION:✨🎰MESSY MARGARET BINGO🎰✨ Looking for a wild Wednesday? 🤪Join us at The Well Church Street for Messy Margaret Bingo from 7PM-10PM hosted by the “Bingo Boss” of Toronto herself: the one and only 👑Messy Margaret👑! Get ready for the messiest Bingo you've ever played 😈, the BEST wings in the village with mouthwatering sauces and dry rubs for $1 per wing 🤤, $5 Molson drinks before 7PM 🍻, and awesome 🎁 prizes 🎁 sponsored by The Well Toronto and Messy Margaret Productions. Come and enjoy the shenanigans! MAKE A RESERVATION 👇 https://drinkatthewell.com/church
URL:https://drinkatthewell.com/product/messy-bingos-church-street-5/
LOCATION:487 Church St. Toronto, ON M4Y 2C6
END:VEVENT
END:VCALENDAR
