BEGIN:VCALENDAR
VERSION:2.0
PRODID:-//Drink at The Well
CALSCALE:GREGORIAN
METHOD:PUBLISH
X-WR-CALNAME:Drink at The Well
X-ORIGINAL-URL:https://drinkatthewell.com/product/saturday-nights-london-3/
X-WR-CALDESC:Saturday Nights &#8211; LONDON
BEGIN:VTIMEZONE
TZID:America/Halifax
END:VTIMEZONE
BEGIN:VEVENT
DTSTART;TZID=America/Halifax:20260425T000000
DTEND;TZID=America/Halifax:20260425T000000
DTSTAMP:20260422T141607
UID:6485-rpalmer@hightechcommunications.ca
SUMMARY:Saturday Nights – LONDON
DESCRIPTION:Time: Starts at 9 PM Featured Talent: Dahlia Doll (from Call Me Mother), Vlad Black, Victoria Lavish, and Kaiden Kunts. Music: Beats by DJ Tyvak.
URL:https://drinkatthewell.com/product/saturday-nights-london-3/
LOCATION:238 Dundas St London, ON N6A 1H3
END:VEVENT
END:VCALENDAR
