BEGIN:VCALENDAR
VERSION:2.0
PRODID:-//Drink at The Well
CALSCALE:GREGORIAN
METHOD:PUBLISH
X-WR-CALNAME:Drink at The Well
X-ORIGINAL-URL:https://drinkatthewell.com/product/fever-fridays-the-friday-finale-london-4/
X-WR-CALDESC:Fever Fridays &#8211; LONDON
BEGIN:VTIMEZONE
TZID:America/Halifax
END:VTIMEZONE
BEGIN:VEVENT
DTSTART;TZID=America/Halifax:20260424T000000
DTEND;TZID=America/Halifax:20260424T000000
DTSTAMP:20260422T172523
UID:6482-rpalmer@hightechcommunications.ca
SUMMARY:Fever Fridays – LONDON
DESCRIPTION:Time: 9:30 PM (Viewing Party) | 11:00 PM (Performances & GoGo) Cover: NO COVER Special: $5 Molson Products, $5 Bar Rails, $5 Appetizers. Featured Talent: Leigha & Houghston.
URL:https://drinkatthewell.com/product/fever-fridays-the-friday-finale-london-4/
LOCATION:238 Dundas St London, ON N6A 1H3
END:VEVENT
END:VCALENDAR
