BEGIN:VCALENDAR
VERSION:2.0
PRODID:-//Drink at The Well
CALSCALE:GREGORIAN
METHOD:PUBLISH
X-WR-CALNAME:Drink at The Well
X-ORIGINAL-URL:https://drinkatthewell.com/product/sip-sing-wing-with-melody-bijou-london-4/
X-WR-CALDESC:Sip, Sing &#038; Wing with Melody Bijou &#8211; LONDON
BEGIN:VTIMEZONE
TZID:America/Halifax
END:VTIMEZONE
BEGIN:VEVENT
DTSTART;TZID=America/Halifax:20260423T000000
DTEND;TZID=America/Halifax:20260423T000000
DTSTAMP:20260422T175005
UID:6477-rpalmer@hightechcommunications.ca
SUMMARY:Sip, Sing & Wing with Melody Bijou – LONDON
DESCRIPTION:Time: 9 PM – Close Special: $1 Chicken Wings & $5 Molson Products. Highlight: Karaoke hosted by Melody Bijou. Sing to win a $25 Gift Card!
URL:https://drinkatthewell.com/product/sip-sing-wing-with-melody-bijou-london-4/
LOCATION:238 Dundas St London, ON N6A 1H3
END:VEVENT
END:VCALENDAR
