BEGIN:VCALENDAR
VERSION:2.0
PRODID:-//Drink at The Well
CALSCALE:GREGORIAN
METHOD:PUBLISH
X-WR-CALNAME:Drink at The Well
X-ORIGINAL-URL:https://drinkatthewell.com/product/thursday-karaoke-at-the-well-london-3/
X-WR-CALDESC:THURSDAY KARAOKE AT THE WELL &#8211; Hamilton
BEGIN:VTIMEZONE
TZID:America/New_York
END:VTIMEZONE
BEGIN:VEVENT
DTSTART;TZID=America/New_York:20260423T210000
DTEND;TZID=America/New_York:20260423T233000
DTSTAMP:20260422T160119
UID:6472-rpalmer@hightechcommunications.ca
SUMMARY:THURSDAY KARAOKE AT THE WELL – Hamilton
DESCRIPTION:Be the Star you were born to be!
URL:https://drinkatthewell.com/product/thursday-karaoke-at-the-well-london-3/
LOCATION:161 Wellington St N, Hamilton, ON L8L 2A9
END:VEVENT
END:VCALENDAR
