BEGIN:VCALENDAR
VERSION:2.0
PRODID:-//Drink at The Well
CALSCALE:GREGORIAN
METHOD:PUBLISH
X-WR-CALNAME:Drink at The Well
X-ORIGINAL-URL:https://drinkatthewell.com/product/paint-night-at-the-well-hamilton-5/
X-WR-CALDESC:PAINT NIGHT AT THE WELL &#8211; Hamilton
BEGIN:VTIMEZONE
TZID:America/New_York
END:VTIMEZONE
BEGIN:VEVENT
DTSTART;TZID=America/New_York:20260430T190000
DTEND;TZID=America/New_York:20260430T210000
DTSTAMP:20260422T160119
UID:6463-rpalmer@hightechcommunications.ca
SUMMARY:PAINT NIGHT AT THE WELL – Hamilton
DESCRIPTION:🎨✨ PAINT NIGHT AT THE WELL ✨ 🎨 Join us every Thursday at The Well Hamilton for a paint lesson led by master artist Josh Mallinson from 7-9 PM! For just $30, you’ll get all your supplies, a canvas, and a complimentary drink to get those creative juices flowing! 🍹 Afterward, stick around for karaoke starting at 9 PM! 🎤 And don’t miss out on our Thursday food and drink specials going on ALL DAY: 🍺 $5 Molson Pints 🍕 $25 for a 3-Topping Medium Pizza &amp; a Wine Bottle 🥪 1/2 Price Handhelds *Reserve your spot for paint night at joshthepartypainter@gmail.com 🌟 📍 161 Wellington St. N, Hamilton, ON
URL:https://drinkatthewell.com/product/paint-night-at-the-well-hamilton-5/
LOCATION:161 Wellington St N, Hamilton, ON L8L 2A9
END:VEVENT
END:VCALENDAR
