BEGIN:VCALENDAR
VERSION:2.0
PRODID:-//Drink at The Well
CALSCALE:GREGORIAN
METHOD:PUBLISH
X-WR-CALNAME:Drink at The Well
X-ORIGINAL-URL:https://drinkatthewell.com/product/karaoke-nights-windsor-4/
X-WR-CALDESC:KARAOKE NIGHTS &#8211; WINDSOR
BEGIN:VTIMEZONE
TZID:America/Halifax
END:VTIMEZONE
BEGIN:VEVENT
DTSTART;TZID=America/Halifax:20260423T000000
DTEND;TZID=America/Halifax:20260423T000000
DTSTAMP:20260422T154331
UID:6431-rpalmer@hightechcommunications.ca
SUMMARY:KARAOKE NIGHTS – WINDSOR
DESCRIPTION:The Well Windsor is excited and proud to announce our first recurring event: KARAOKE! Join us not once, but TWICE a week, every Thursday and Sunday at 9PM for non-stop jams, unbeatable vibes, and all the karaoke magic. We bring the mic, you bring the talent (and the drama)!
URL:https://drinkatthewell.com/product/karaoke-nights-windsor-4/
LOCATION:875 Erie St E, Windsor, ON N9A 3Y7
END:VEVENT
END:VCALENDAR
