BEGIN:VCALENDAR
VERSION:2.0
PRODID:-//Drink at The Well
CALSCALE:GREGORIAN
METHOD:PUBLISH
X-WR-CALNAME:Drink at The Well
X-ORIGINAL-URL:https://drinkatthewell.com/product/poker-night-wilton-manors-31/
X-WR-CALDESC:Poker Night Wilton Manors
BEGIN:VTIMEZONE
TZID:America/New_York
END:VTIMEZONE
BEGIN:VEVENT
DTSTART;TZID=America/New_York:20260731T160000
DTEND;TZID=America/New_York:20260731T000000
DTSTAMP:20260422T142053
UID:6093-rpalmer@hightechcommunications.ca
SUMMARY:Poker Night Wilton Manors
DESCRIPTION:
URL:https://drinkatthewell.com/product/poker-night-wilton-manors-31/
LOCATION:2426 Wilton Dr, Wilton Manors, FL 33305, USA
END:VEVENT
END:VCALENDAR
