BEGIN:VCALENDAR
VERSION:2.0
PRODID:-//Drink at The Well
CALSCALE:GREGORIAN
METHOD:PUBLISH
X-WR-CALNAME:Drink at The Well
X-ORIGINAL-URL:https://drinkatthewell.com/product/well-sung-variety-show-wilton-manors-35/
X-WR-CALDESC:Well Sung Variety Show Wilton Manors
BEGIN:VTIMEZONE
TZID:America/New_York
END:VTIMEZONE
BEGIN:VEVENT
DTSTART;TZID=America/New_York:20260903T200000
DTEND;TZID=America/New_York:20260903T235900
DTSTAMP:20260422T222457
UID:6045-rpalmer@hightechcommunications.ca
SUMMARY:Well Sung Variety Show Wilton Manors
DESCRIPTION:Featuring Performances by Different Singers and Musicians Every Week
URL:https://drinkatthewell.com/product/well-sung-variety-show-wilton-manors-35/
LOCATION:2426 Wilton Dr, Wilton Manors, FL 33305, USA
END:VEVENT
END:VCALENDAR
