BEGIN:VCALENDAR
VERSION:2.0
PRODID:-//Drink at The Well
CALSCALE:GREGORIAN
METHOD:PUBLISH
X-WR-CALNAME:Drink at The Well
X-ORIGINAL-URL:https://drinkatthewell.com/product/friday-night-music-trivia-karaoke-wilton-manors-43/
X-WR-CALDESC:Friday Night Music Trivia &#038; Karaoke Wilton Manors
BEGIN:VTIMEZONE
TZID:America/New_York
END:VTIMEZONE
BEGIN:VEVENT
DTSTART;TZID=America/New_York:20261023T190000
DTEND;TZID=America/New_York:20261023T235900
DTSTAMP:20260423T103052
UID:5946-rpalmer@hightechcommunications.ca
SUMMARY:Friday Night Music Trivia & Karaoke Wilton Manors
DESCRIPTION:
URL:https://drinkatthewell.com/product/friday-night-music-trivia-karaoke-wilton-manors-43/
LOCATION:2426 Wilton Dr, Wilton Manors, FL 33305, USA
END:VEVENT
END:VCALENDAR
